BEGIN:VCALENDAR
VERSION:2.0
PRODID:icalendar-ruby
CALSCALE:GREGORIAN
METHOD:PUBLISH
BEGIN:VEVENT
DTSTAMP:20260421T165621Z
UID:18-1063216@salemspringdale.org
DTSTART:20260916T000000Z
DTEND:20260916T010000Z
CLASS:PUBLIC
CREATED:20260421T094153
DESCRIPTION:Our choir\, accompanied by our talented organist\, rehearses we
 ekly to prepare for Sunday services. If you love to sing and would like to
  be part of our worship through music\, we would love to have you join us!
 \nPlease reach out if you are interested in joining our choir and using yo
 ur voice to glorify God.
LAST-MODIFIED:20260421T094153
LOCATION:Church Balcony
SUMMARY:Choir Practice
URL;VALUE=URI:https://salemspringdale.org/events/choir-practice/2026-09-15
ATTACH;FILENAME=0rjw.jpg;FMTTYPE=image/jpeg:https://dq5pwpg1q8ru0.cloudfron
 t.net/2024/09/18/00/37/36/1e0fcb2d-d642-47cf-bdb4-2bd8b4590c6a/0rjw.jpg
END:VEVENT
END:VCALENDAR
