BEGIN:VCALENDAR
VERSION:2.0
PRODID:icalendar-ruby
CALSCALE:GREGORIAN
METHOD:PUBLISH
BEGIN:VEVENT
DTSTAMP:20260421T154646Z
UID:22-1063387@salemspringdale.org
DTSTART:20261007T123000Z
DTEND:20261007T133000Z
CLASS:PUBLIC
CREATED:20260421T094154
DESCRIPTION:Men gather weekly to study the Bible (and eat donuts). Whether 
 you’re looking\nto grow in your faith\, strengthen your understanding of
  the Bible\, or connect with\nother men in the community\, our study group
  provides a place for growth and\nfellowship.
LAST-MODIFIED:20260421T094154
LOCATION:Bible Study Room
SUMMARY:Men's Bible Study
URL;VALUE=URI:https://salemspringdale.org/events/mens-bible-study/2026-10-0
 7
ATTACH;FILENAME=N00Z.jpg;FMTTYPE=image/jpeg:https://dq5pwpg1q8ru0.cloudfron
 t.net/2024/10/29/22/43/37/b7eb960b-8ca5-4395-850c-19e39455d1c1/N00Z.jpg
END:VEVENT
END:VCALENDAR
