BEGIN:VCALENDAR
VERSION:2.0
PRODID:icalendar-ruby
CALSCALE:GREGORIAN
METHOD:PUBLISH
BEGIN:VEVENT
DTSTAMP:20260421T214919Z
UID:20-1065432@salemspringdale.org
DTSTART:20260916T140000Z
DTEND:20260916T143000Z
CLASS:PUBLIC
CREATED:20260421T145746
DESCRIPTION:Welcome to Preschool Chapel\, a special time for our youngest l
 earners to experience the joy of worship and explore God’s love in a fun
 \, age-appropriate setting. Each session is designed to teach and inspire 
 preschoolers with engaging Bible stories\, songs\, and activities that int
 roduce them to the basics of Christian faith.
LAST-MODIFIED:20260421T145746
LOCATION:Sanctuary
SUMMARY:Preschool Chapel
URL;VALUE=URI:https://salemspringdale.org/events/preschool-chapel/2026-09-1
 6
ATTACH;FILENAME=unnamed-%286%29.jpg;FMTTYPE=image/jpeg:https://dq5pwpg1q8ru
 0.cloudfront.net/2025/02/14/19/15/16/82895632-6dc5-4d96-9995-4b2489a9cb02/
 unnamed-%25286%2529.jpg
END:VEVENT
END:VCALENDAR
