BEGIN:VCALENDAR
VERSION:2.0
PRODID:icalendar-ruby
CALSCALE:GREGORIAN
METHOD:PUBLISH
BEGIN:VEVENT
DTSTAMP:20260425T105837Z
UID:108-943178@salemspringdale.org
DTSTART:20260426T141500Z
DTEND:20260426T151500Z
CLASS:PUBLIC
CREATED:20260402T132947
DESCRIPTION:Retirement Reception\nPlease join us on Sunday\, April 26\, dur
 ing the Bible study hour\, to recognize Darlene Diercouff's 42 years of se
 rvice to Salem and celebrate her retirement.  There will be cake\, punch\
 , and other treats.  If you wish\, cards and gifts can be brought on that
  day. 
LAST-MODIFIED:20260402T132947
LOCATION:Fellowship Hall
SUMMARY:Retirement Celebration
URL;VALUE=URI:https://salemspringdale.org/events/retirement-celebration/202
 6-04-26
ATTACH;FILENAME=Darlene-retirement.jpg;FMTTYPE=image/jpeg:https://dq5pwpg1q
 8ru0.cloudfront.net/2026/04/02/18/29/47/f37002c7-b142-4222-990f-0766e8a244
 e1/Darlene-retirement.jpg
END:VEVENT
END:VCALENDAR
