BEGIN:VCALENDAR
VERSION:2.0
PRODID:icalendar-ruby
CALSCALE:GREGORIAN
METHOD:PUBLISH
BEGIN:VEVENT
DTSTAMP:20260420T115100Z
UID:112-980441@salemspringdale.org
DTSTART:20260421T220000Z
DTEND:20260422T010000Z
CLASS:PUBLIC
CREATED:20260408T122547
DESCRIPTION:Salem Night Out at Mama  Z’s\nWant a night out from cooking?
   Does your family love homemade spaghetti or fried chicken?  Then this 
 event is for you! We will be having a Salem Night Out at Mama Z’s restau
 rant.  Salem Lutheran will receive a percentage of the sales for the nigh
 t of April 21st.  Please plan on dining out with the family that night\, 
 or calling for take-out\, and help our preschool at the same time.\n 
LAST-MODIFIED:20260408T122547
LOCATION:357 West Henri de Tonti Blvd.\, Tontitown
SUMMARY:Salem Night Out at Mama Z's restaurant
URL;VALUE=URI:https://salemspringdale.org/events/salem-night-out-at-mama-zs
 -restaurant/2026-04-21
ATTACH;FILENAME=Mama-Zs.jpg;FMTTYPE=image/jpeg:https://dq5pwpg1q8ru0.cloudf
 ront.net/2026/04/08/17/25/46/61bfbcb3-06b7-4458-aa32-4626914594aa/Mama-Zs.
 jpg
END:VEVENT
END:VCALENDAR
