BEGIN:VCALENDAR
VERSION:2.0
PRODID:icalendar-ruby
CALSCALE:GREGORIAN
METHOD:PUBLISH
BEGIN:VEVENT
DTSTAMP:20260421T153459Z
UID:42-1063905@salemspringdale.org
DTSTART:20260722T141500Z
DTEND:20260722T153000Z
CLASS:PUBLIC
CREATED:20260421T094155
DESCRIPTION:All ladies are invited to attend. \nLed by Marci Wilson\n 
LAST-MODIFIED:20260421T094155
LOCATION:Bible Study Room
SUMMARY:Wednesday Morning Women's Bible Study
URL;VALUE=URI:https://salemspringdale.org/events/wednesday-morning-womens-b
 ible-study/2026-07-22
ATTACH;FILENAME=Bible-Study.jpg;FMTTYPE=image/jpeg:https://dq5pwpg1q8ru0.cl
 oudfront.net/2025/08/11/17/02/18/a1b9a450-00a3-42ed-a8b7-cb4922f70977/Bibl
 e-Study.jpg
END:VEVENT
END:VCALENDAR
